{
 "documentInfo": {
  "Category": "",
  "Keywords": "BaseMap",
  "Version": "2.6.0",
  "Comments": "",
  "AntialiasingMode": "Fast",
  "Title": "Untitled.aprx",
  "Author": "",
  "TextAntialiasingMode": "Force",
  "Subject": ""
 },
 "maxImageWidth": 4096,
 "wmtsScaleFactor": 0.00028000000000003521,
 "maxRecordCount": 2000,
 "tileInfo": {
  "lods": [
   {
    "level": 0,
    "scale": 1024000,
    "resolution": 270.93387520108377
   },
   {
    "level": 1,
    "scale": 512000,
    "resolution": 135.46693760054188
   },
   {
    "level": 2,
    "scale": 256000,
    "resolution": 67.733468800270941
   },
   {
    "level": 3,
    "scale": 128000,
    "resolution": 33.866734400135471
   },
   {
    "level": 4,
    "scale": 64000,
    "resolution": 16.933367200067735
   },
   {
    "level": 5,
    "scale": 32000,
    "resolution": 8.4666836000338677
   },
   {
    "level": 6,
    "scale": 16000,
    "resolution": 4.2333418000169338
   },
   {
    "level": 7,
    "scale": 8000,
    "resolution": 2.1166709000084669
   },
   {
    "level": 8,
    "scale": 4000,
    "resolution": 1.0583354500042335
   },
   {
    "level": 9,
    "scale": 2000,
    "resolution": 0.52916772500211673
   },
   {
    "level": 10,
    "scale": 1000,
    "resolution": 0.26458386250105836
   },
   {
    "level": 11,
    "scale": 500,
    "resolution": 0.13229193125052918
   },
   {
    "level": 12,
    "scale": 250,
    "resolution": 0.066145965625264591
   }
  ],
  "origin": {
   "x": -5120900,
   "y": 19998100
  },
  "format": "PNG",
  "compressionQuality": 0,
  "rows": 256,
  "dpi": 96,
  "spatialReference": {
   "falseM": -100000,
   "xyTolerance": 0.001,
   "mUnits": 10000,
   "zUnits": 1,
   "latestWkid": 7856,
   "zTolerance": 2,
   "wkid": 7856,
   "xyUnits": 450445547.3910538,
   "mTolerance": 0.001,
   "falseX": -5120900,
   "falseY": 1900,
   "falseZ": 0
  },
  "cols": 256
 },
 "description": "",
 "datesInUnknownTimezone": false,
 "supportsQueryDomains": true,
 "units": "esriMeters",
 "maxSelectionCount": 2000,
 "supportedImageFormatTypes": "PNG32,PNG24,PNG,JPG,DIB,TIFF,EMF,PS,PDF,GIF,SVG,SVGZ,BMP",
 "supportsClipping": true,
 "exportTilesAllowed": true,
 "maxImageHeight": 4096,
 "tables": [],
 "hasVersionedData": true,
 "supportsDatumTransformation": true,
 "cimVersion": "3.7.0",
 "supportsQueryDataElements": true,
 "layers": [
  {
   "subLayerIds": [
    1,
    2,
    3,
    4,
    5,
    6,
    7,
    8,
    9,
    10
   ],
   "maxScale": 0,
   "name": "Localities",
   "defaultVisibility": true,
   "id": 0,
   "minScale": 0,
   "supportsDynamicLegends": false,
   "type": "Group Layer",
   "parentLayerId": -1
  },
  {
   "subLayerIds": null,
   "maxScale": 4000,
   "name": "Traffic Signal",
   "defaultVisibility": true,
   "id": 1,
   "minScale": 32000,
   "supportsDynamicLegends": true,
   "type": "Feature Layer",
   "parentLayerId": 0,
   "geometryType": "esriGeometryPoint"
  },
  {
   "subLayerIds": null,
   "maxScale": 0,
   "name": "DamWaterline",
   "defaultVisibility": true,
   "id": 2,
   "minScale": 0,
   "supportsDynamicLegends": true,
   "type": "Feature Layer",
   "parentLayerId": 0,
   "geometryType": "esriGeometryPolygon"
  },
  {
   "subLayerIds": null,
   "maxScale": 0,
   "name": "Qld_Drainage_TRC_Clip <150000",
   "defaultVisibility": true,
   "id": 3,
   "minScale": 128000,
   "supportsDynamicLegends": true,
   "type": "Feature Layer",
   "parentLayerId": 0,
   "geometryType": "esriGeometryPolyline"
  },
  {
   "subLayerIds": null,
   "maxScale": 256000,
   "name": "Qld_Drainage_TRC_Clip > 150000",
   "defaultVisibility": true,
   "id": 4,
   "minScale": 512000,
   "supportsDynamicLegends": true,
   "type": "Feature Layer",
   "parentLayerId": 0,
   "geometryType": "esriGeometryPolyline"
  },
  {
   "subLayerIds": null,
   "maxScale": 512000,
   "name": "Service Centres",
   "defaultVisibility": true,
   "id": 5,
   "minScale": 0,
   "supportsDynamicLegends": true,
   "type": "Feature Layer",
   "parentLayerId": 0,
   "geometryType": "esriGeometryPoint"
  },
  {
   "subLayerIds": null,
   "maxScale": 256000,
   "name": "TRC_Towns_250k",
   "defaultVisibility": true,
   "id": 6,
   "minScale": 257000,
   "supportsDynamicLegends": true,
   "type": "Feature Layer",
   "parentLayerId": 0,
   "geometryType": "esriGeometryPoint"
  },
  {
   "subLayerIds": null,
   "maxScale": 75000,
   "name": "Towns 75000",
   "defaultVisibility": true,
   "id": 7,
   "minScale": 160000,
   "supportsDynamicLegends": true,
   "type": "Feature Layer",
   "parentLayerId": 0,
   "geometryType": "esriGeometryPoint"
  },
  {
   "subLayerIds": null,
   "maxScale": 32000,
   "name": "Towns 20000",
   "defaultVisibility": true,
   "id": 8,
   "minScale": 64000,
   "supportsDynamicLegends": true,
   "type": "Feature Layer",
   "parentLayerId": 0,
   "geometryType": "esriGeometryPoint"
  },
  {
   "subLayerIds": null,
   "maxScale": 11000,
   "name": "Towns 17500",
   "defaultVisibility": true,
   "id": 9,
   "minScale": 18000,
   "supportsDynamicLegends": true,
   "type": "Feature Layer",
   "parentLayerId": 0,
   "geometryType": "esriGeometryPoint"
  },
  {
   "subLayerIds": null,
   "maxScale": 0,
   "name": "Boundary1",
   "defaultVisibility": true,
   "id": 10,
   "minScale": 0,
   "supportsDynamicLegends": true,
   "type": "Feature Layer",
   "parentLayerId": 0,
   "geometryType": "esriGeometryPolygon"
  },
  {
   "subLayerIds": [
    12,
    13
   ],
   "maxScale": 0,
   "name": "Rail",
   "defaultVisibility": true,
   "id": 11,
   "minScale": 0,
   "supportsDynamicLegends": false,
   "type": "Group Layer",
   "parentLayerId": -1
  },
  {
   "subLayerIds": null,
   "maxScale": 128000,
   "name": "QLD_Rail Overview",
   "defaultVisibility": true,
   "id": 12,
   "minScale": 512000,
   "supportsDynamicLegends": true,
   "type": "Feature Layer",
   "parentLayerId": 11,
   "geometryType": "esriGeometryPolyline"
  },
  {
   "subLayerIds": null,
   "maxScale": 0,
   "name": "QLD_Rail",
   "defaultVisibility": true,
   "id": 13,
   "minScale": 64000,
   "supportsDynamicLegends": true,
   "type": "Feature Layer",
   "parentLayerId": 11,
   "geometryType": "esriGeometryPolyline"
  },
  {
   "subLayerIds": [
    15,
    16,
    17,
    18,
    19
   ],
   "maxScale": 0,
   "name": "Roads",
   "defaultVisibility": true,
   "id": 14,
   "minScale": 0,
   "supportsDynamicLegends": false,
   "type": "Group Layer",
   "parentLayerId": -1
  },
  {
   "subLayerIds": null,
   "maxScale": 512000,
   "name": "Roads Overview",
   "defaultVisibility": true,
   "id": 15,
   "minScale": 0,
   "supportsDynamicLegends": true,
   "type": "Feature Layer",
   "parentLayerId": 14,
   "geometryType": "esriGeometryPolyline"
  },
  {
   "subLayerIds": null,
   "maxScale": 256000,
   "name": "Roads Overview 300000",
   "defaultVisibility": true,
   "id": 16,
   "minScale": 256010,
   "supportsDynamicLegends": true,
   "type": "Feature Layer",
   "parentLayerId": 14,
   "geometryType": "esriGeometryPolyline"
  },
  {
   "subLayerIds": null,
   "maxScale": 128000,
   "name": "Road CL Middle",
   "defaultVisibility": true,
   "id": 17,
   "minScale": 128000,
   "supportsDynamicLegends": true,
   "type": "Feature Layer",
   "parentLayerId": 14,
   "geometryType": "esriGeometryPolyline"
  },
  {
   "subLayerIds": null,
   "maxScale": 16000,
   "name": "Road CL Middle 2",
   "defaultVisibility": true,
   "id": 18,
   "minScale": 64000,
   "supportsDynamicLegends": true,
   "type": "Feature Layer",
   "parentLayerId": 14,
   "geometryType": "esriGeometryPolyline"
  },
  {
   "subLayerIds": [
    20,
    21,
    22,
    25,
    28,
    29,
    30
   ],
   "maxScale": 0,
   "name": "Road Labels",
   "defaultVisibility": true,
   "id": 19,
   "minScale": 0,
   "supportsDynamicLegends": false,
   "type": "Group Layer",
   "parentLayerId": 14
  },
  {
   "subLayerIds": null,
   "maxScale": 24001,
   "name": "Roads Labels 300000",
   "defaultVisibility": true,
   "id": 20,
   "minScale": 128000,
   "supportsDynamicLegends": true,
   "type": "Feature Layer",
   "parentLayerId": 19,
   "geometryType": "esriGeometryPolyline"
  },
  {
   "subLayerIds": null,
   "maxScale": 24001,
   "name": "Roads Labels 25000",
   "defaultVisibility": true,
   "id": 21,
   "minScale": 40000,
   "supportsDynamicLegends": true,
   "type": "Feature Layer",
   "parentLayerId": 19,
   "geometryType": "esriGeometryPolyline"
  },
  {
   "subLayerIds": [
    23,
    24
   ],
   "maxScale": 12001,
   "name": "17500",
   "defaultVisibility": true,
   "id": 22,
   "minScale": 24000,
   "supportsDynamicLegends": false,
   "type": "Group Layer",
   "parentLayerId": 19
  },
  {
   "subLayerIds": null,
   "maxScale": 12001,
   "name": "Roads CL Labels H",
   "defaultVisibility": true,
   "id": 23,
   "minScale": 24000,
   "supportsDynamicLegends": true,
   "type": "Feature Layer",
   "parentLayerId": 22,
   "geometryType": "esriGeometryPolyline"
  },
  {
   "subLayerIds": null,
   "maxScale": 12001,
   "name": "Roads CL Labels A",
   "defaultVisibility": true,
   "id": 24,
   "minScale": 24000,
   "supportsDynamicLegends": true,
   "type": "Feature Layer",
   "parentLayerId": 22,
   "geometryType": "esriGeometryPolyline"
  },
  {
   "subLayerIds": [
    26,
    27
   ],
   "maxScale": 6001,
   "name": "10000",
   "defaultVisibility": true,
   "id": 25,
   "minScale": 12000,
   "supportsDynamicLegends": false,
   "type": "Group Layer",
   "parentLayerId": 19
  },
  {
   "subLayerIds": null,
   "maxScale": 6001,
   "name": "Roads CL Labels 1",
   "defaultVisibility": true,
   "id": 26,
   "minScale": 12000,
   "supportsDynamicLegends": true,
   "type": "Feature Layer",
   "parentLayerId": 25,
   "geometryType": "esriGeometryPolyline"
  },
  {
   "subLayerIds": null,
   "maxScale": 6001,
   "name": "Roads CL Labels 4",
   "defaultVisibility": true,
   "id": 27,
   "minScale": 12000,
   "supportsDynamicLegends": true,
   "type": "Feature Layer",
   "parentLayerId": 25,
   "geometryType": "esriGeometryPolyline"
  },
  {
   "subLayerIds": null,
   "maxScale": 3001,
   "name": "Roads CL Labels 5000",
   "defaultVisibility": true,
   "id": 28,
   "minScale": 6000,
   "supportsDynamicLegends": true,
   "type": "Feature Layer",
   "parentLayerId": 19,
   "geometryType": "esriGeometryPolyline"
  },
  {
   "subLayerIds": null,
   "maxScale": 1501,
   "name": "Roads CL Labels 2500",
   "defaultVisibility": true,
   "id": 29,
   "minScale": 3000,
   "supportsDynamicLegends": true,
   "type": "Feature Layer",
   "parentLayerId": 19,
   "geometryType": "esriGeometryPolyline"
  },
  {
   "subLayerIds": null,
   "maxScale": 0,
   "name": "Roads CL Labels 1000",
   "defaultVisibility": true,
   "id": 30,
   "minScale": 1500,
   "supportsDynamicLegends": true,
   "type": "Feature Layer",
   "parentLayerId": 19,
   "geometryType": "esriGeometryPolyline"
  },
  {
   "subLayerIds": [
    32,
    33
   ],
   "maxScale": 0,
   "name": "Property",
   "defaultVisibility": true,
   "id": 31,
   "minScale": 65000,
   "supportsDynamicLegends": false,
   "type": "Group Layer",
   "parentLayerId": -1
  },
  {
   "subLayerIds": null,
   "maxScale": 16000,
   "name": "Properties 17500",
   "defaultVisibility": true,
   "id": 32,
   "minScale": 32001,
   "supportsDynamicLegends": true,
   "type": "Feature Layer",
   "parentLayerId": 31,
   "geometryType": "esriGeometryPolygon"
  },
  {
   "subLayerIds": null,
   "maxScale": 0,
   "name": "Properties",
   "defaultVisibility": true,
   "id": 33,
   "minScale": 8000,
   "supportsDynamicLegends": true,
   "type": "Feature Layer",
   "parentLayerId": 31,
   "geometryType": "esriGeometryPolygon"
  },
  {
   "subLayerIds": null,
   "maxScale": 0,
   "name": "QLD_CADASTRE_DCDB_Clip",
   "defaultVisibility": true,
   "id": 34,
   "minScale": 16000,
   "supportsDynamicLegends": true,
   "type": "Feature Layer",
   "parentLayerId": -1,
   "geometryType": "esriGeometryPolygon"
  },
  {
   "subLayerIds": [
    36,
    37,
    38,
    39,
    40,
    41,
    46,
    47,
    48
   ],
   "maxScale": 0,
   "name": "Background",
   "defaultVisibility": true,
   "id": 35,
   "minScale": 0,
   "supportsDynamicLegends": false,
   "type": "Group Layer",
   "parentLayerId": -1
  },
  {
   "subLayerIds": null,
   "maxScale": 0,
   "name": "National & Other",
   "defaultVisibility": true,
   "id": 36,
   "minScale": 0,
   "supportsDynamicLegends": true,
   "type": "Feature Layer",
   "parentLayerId": 35,
   "geometryType": "esriGeometryPolygon"
  },
  {
   "subLayerIds": null,
   "maxScale": 0,
   "name": "Road Parcel",
   "defaultVisibility": true,
   "id": 37,
   "minScale": 8000,
   "supportsDynamicLegends": true,
   "type": "Feature Layer",
   "parentLayerId": 35,
   "geometryType": "esriGeometryPolygon"
  },
  {
   "subLayerIds": null,
   "maxScale": 256000,
   "name": "Urban_Extents_Overview",
   "defaultVisibility": true,
   "id": 38,
   "minScale": 1100000,
   "supportsDynamicLegends": true,
   "type": "Feature Layer",
   "parentLayerId": 35,
   "geometryType": "esriGeometryPolygon"
  },
  {
   "subLayerIds": null,
   "maxScale": 16000,
   "name": "Urban_Extents_Low",
   "defaultVisibility": true,
   "id": 39,
   "minScale": 16000,
   "supportsDynamicLegends": true,
   "type": "Feature Layer",
   "parentLayerId": 35,
   "geometryType": "esriGeometryPolygon"
  },
  {
   "subLayerIds": null,
   "maxScale": 0,
   "name": "QLDRoads",
   "defaultVisibility": true,
   "id": 40,
   "minScale": 0,
   "supportsDynamicLegends": true,
   "type": "Feature Layer",
   "parentLayerId": 35,
   "geometryType": "esriGeometryPolyline"
  },
  {
   "subLayerIds": [
    42,
    43,
    44,
    45
   ],
   "maxScale": 18000,
   "name": "Terrain",
   "defaultVisibility": true,
   "id": 41,
   "minScale": 0,
   "supportsDynamicLegends": false,
   "type": "Group Layer",
   "parentLayerId": 35
  },
  {
   "subLayerIds": null,
   "maxScale": 200000,
   "name": "LOCGOVBDY",
   "defaultVisibility": true,
   "id": 42,
   "minScale": 0,
   "supportsDynamicLegends": true,
   "type": "Feature Layer",
   "parentLayerId": 41,
   "geometryType": "esriGeometryPolygon"
  },
  {
   "subLayerIds": null,
   "maxScale": 32000,
   "name": "Urban_Extents",
   "defaultVisibility": true,
   "id": 43,
   "minScale": 128000,
   "supportsDynamicLegends": true,
   "type": "Feature Layer",
   "parentLayerId": 41,
   "geometryType": "esriGeometryPolygon"
  },
  {
   "subLayerIds": null,
   "maxScale": 32000,
   "name": "Aerial_HS1.tif",
   "defaultVisibility": true,
   "id": 44,
   "minScale": 128000,
   "supportsDynamicLegends": true,
   "type": "Raster Layer",
   "parentLayerId": 41
  },
  {
   "subLayerIds": null,
   "maxScale": 128000,
   "name": "esri_dem_Blur_Clip.tif",
   "defaultVisibility": true,
   "id": 45,
   "minScale": 0,
   "supportsDynamicLegends": true,
   "type": "Raster Layer",
   "parentLayerId": 41
  },
  {
   "subLayerIds": null,
   "maxScale": 0,
   "name": "LOCGOVBDY2",
   "defaultVisibility": true,
   "id": 46,
   "minScale": 0,
   "supportsDynamicLegends": true,
   "type": "Feature Layer",
   "parentLayerId": 35,
   "geometryType": "esriGeometryPolygon"
  },
  {
   "subLayerIds": null,
   "maxScale": 0,
   "name": "NSW_Clip",
   "defaultVisibility": true,
   "id": 47,
   "minScale": 0,
   "supportsDynamicLegends": true,
   "type": "Feature Layer",
   "parentLayerId": 35,
   "geometryType": "esriGeometryPolygon"
  },
  {
   "subLayerIds": null,
   "maxScale": 0,
   "name": "ClipAreaForCache",
   "defaultVisibility": true,
   "id": 48,
   "minScale": 0,
   "supportsDynamicLegends": true,
   "type": "Feature Layer",
   "parentLayerId": 35,
   "geometryType": "esriGeometryPolygon"
  }
 ],
 "mapName": "Layers",
 "minScale": 1024000,
 "archivingInfo": {
  "supportsHistoricMoment": false
 },
 "spatialReference": {
  "falseM": -100000,
  "xyTolerance": 0.001,
  "mUnits": 10000,
  "zUnits": 1,
  "latestWkid": 7856,
  "zTolerance": 2,
  "wkid": 7856,
  "xyUnits": 442418426.488923073,
  "mTolerance": 0.001,
  "falseX": -5415554.13785000052,
  "falseY": -360905.6730300003,
  "falseZ": 0
 },
 "tileImageInfo": {
  "bandCount": 1,
  "lercError": 0,
  "format": "PNG",
  "compressionQuality": 0
 },
 "fullExtent": {
  "ymin": 6666403.8370000003,
  "zmin": -1.4590000000025611,
  "xmin": -134927.31240000017,
  "ymax": 7258013.4605999999,
  "zmax": 0,
  "xmax": 772182.75700000022,
  "spatialReference": {
   "falseM": -100000,
   "xyTolerance": 0.001,
   "mUnits": 10000,
   "zUnits": 1,
   "latestWkid": 7856,
   "zTolerance": 2,
   "wkid": 7856,
   "xyUnits": 442418426.488923073,
   "mTolerance": 0.001,
   "falseX": -5415554.13785000052,
   "falseY": -360905.6730300003,
   "falseZ": 0
  }
 },
 "supportedExtensions": "WMSServer",
 "serviceItemId": "cfc33a56ff914b0287cecd4dfd74660a",
 "capabilities": "Map",
 "supportsDynamicLayers": true,
 "maxScale": 250,
 "singleFusedMapCache": true,
 "currentVersion": 12.1,
 "storageInfo": {
  "storageFormat": "esriMapCacheStorageModeCompactV2",
  "packetSize": 128
 },
 "resampling": false,
 "hasBranchVersionedData": false,
 "mapUnits": {
  "uwkid": 9001
 },
 "maxExportTilesCount": 100000,
 "referenceScale": 0,
 "supportsSpatialFilter": true,
 "supportedQueryFormats": "JSON, geoJSON, PBF",
 "initialExtent": {
  "ymin": 6811029.260897452,
  "xmin": 178931.5943686222,
  "ymax": 7103904.975856714,
  "xmax": 514052.41245534224,
  "spatialReference": {
   "falseM": -100000,
   "xyTolerance": 0.001,
   "mUnits": 10000,
   "zUnits": 1,
   "latestWkid": 7856,
   "zTolerance": 2,
   "wkid": 7856,
   "xyUnits": 442418426.488923073,
   "mTolerance": 0.001,
   "falseX": -5415554.13785000052,
   "falseY": -360905.6730300003,
   "falseZ": 0
  }
 },
 "serviceDescription": "",
 "copyrightText": "",
 "supportsTimeRelation": true
}
