{
 "documentInfo": {
  "Category": "",
  "Keywords": "cache,basemap,light gray",
  "Version": "2.6.0",
  "Comments": "",
  "AntialiasingMode": "Fast",
  "Title": "External_Advanced",
  "Author": "",
  "TextAntialiasingMode": "Force",
  "Subject": ""
 },
 "maxImageWidth": 4096,
 "wmtsScaleFactor": 0.00028000000000003521,
 "maxRecordCount": 2000,
 "tileInfo": {
  "lods": [
   {
    "level": 0,
    "scale": 1024000,
    "resolution": 270.93387520108377
   },
   {
    "level": 1,
    "scale": 512000,
    "resolution": 135.46693760054188
   },
   {
    "level": 2,
    "scale": 256000,
    "resolution": 67.733468800270941
   },
   {
    "level": 3,
    "scale": 128000,
    "resolution": 33.866734400135471
   },
   {
    "level": 4,
    "scale": 64000,
    "resolution": 16.933367200067735
   },
   {
    "level": 5,
    "scale": 32000,
    "resolution": 8.4666836000338677
   },
   {
    "level": 6,
    "scale": 16000,
    "resolution": 4.2333418000169338
   },
   {
    "level": 7,
    "scale": 8000,
    "resolution": 2.1166709000084669
   },
   {
    "level": 8,
    "scale": 4000,
    "resolution": 1.0583354500042335
   },
   {
    "level": 9,
    "scale": 2000,
    "resolution": 0.52916772500211673
   },
   {
    "level": 10,
    "scale": 1000,
    "resolution": 0.26458386250105836
   },
   {
    "level": 11,
    "scale": 500,
    "resolution": 0.13229193125052918
   },
   {
    "level": 12,
    "scale": 250,
    "resolution": 0.066145965625264591
   }
  ],
  "origin": {
   "x": -5120900,
   "y": 19998100
  },
  "format": "PNG",
  "compressionQuality": 0,
  "rows": 256,
  "dpi": 96,
  "spatialReference": {
   "falseM": -100000,
   "xyTolerance": 0.001,
   "mUnits": 10000,
   "zUnits": 1,
   "latestWkid": 7856,
   "zTolerance": 2,
   "wkid": 7856,
   "xyUnits": 450445547.3910538,
   "mTolerance": 0.001,
   "falseX": -5120900,
   "falseY": 1900,
   "falseZ": 0
  },
  "cols": 256
 },
 "description": "",
 "datesInUnknownTimezone": false,
 "supportsQueryDomains": true,
 "units": "esriMeters",
 "maxSelectionCount": 2000,
 "supportedImageFormatTypes": "PNG32,PNG24,PNG,JPG,DIB,TIFF,EMF,PS,PDF,GIF,SVG,SVGZ,BMP",
 "supportsClipping": true,
 "exportTilesAllowed": false,
 "maxImageHeight": 4096,
 "tables": [],
 "hasVersionedData": true,
 "supportsDatumTransformation": true,
 "cimVersion": "3.7.0",
 "supportsQueryDataElements": true,
 "layers": [
  {
   "subLayerIds": [
    1,
    2,
    3,
    4,
    5,
    6,
    7
   ],
   "maxScale": 0,
   "name": "Localities",
   "defaultVisibility": true,
   "id": 0,
   "minScale": 0,
   "supportsDynamicLegends": false,
   "type": "Group Layer",
   "parentLayerId": -1
  },
  {
   "subLayerIds": null,
   "maxScale": 0,
   "name": "DamWaterline",
   "defaultVisibility": true,
   "id": 1,
   "minScale": 0,
   "supportsDynamicLegends": true,
   "type": "Feature Layer",
   "parentLayerId": 0,
   "geometryType": "esriGeometryPolygon"
  },
  {
   "subLayerIds": null,
   "maxScale": 8000,
   "name": "Qld_Drainage_TRC_Clip <150000",
   "defaultVisibility": true,
   "id": 2,
   "minScale": 150000,
   "supportsDynamicLegends": true,
   "type": "Feature Layer",
   "parentLayerId": 0,
   "geometryType": "esriGeometryPolyline"
  },
  {
   "subLayerIds": null,
   "maxScale": 128000,
   "name": "Qld_Drainage_TRC_Clip > 150000",
   "defaultVisibility": true,
   "id": 3,
   "minScale": 0,
   "supportsDynamicLegends": true,
   "type": "Feature Layer",
   "parentLayerId": 0,
   "geometryType": "esriGeometryPolyline"
  },
  {
   "subLayerIds": null,
   "maxScale": 128001,
   "name": "Service Centres",
   "defaultVisibility": true,
   "id": 4,
   "minScale": 0,
   "supportsDynamicLegends": true,
   "type": "Feature Layer",
   "parentLayerId": 0,
   "geometryType": "esriGeometryPoint"
  },
  {
   "subLayerIds": null,
   "maxScale": 32000,
   "name": "Towns 75000",
   "defaultVisibility": true,
   "id": 5,
   "minScale": 65000,
   "supportsDynamicLegends": true,
   "type": "Feature Layer",
   "parentLayerId": 0,
   "geometryType": "esriGeometryPoint"
  },
  {
   "subLayerIds": null,
   "maxScale": 128000,
   "name": "Towns 150000",
   "defaultVisibility": true,
   "id": 6,
   "minScale": 128000,
   "supportsDynamicLegends": true,
   "type": "Feature Layer",
   "parentLayerId": 0,
   "geometryType": "esriGeometryPoint"
  },
  {
   "subLayerIds": null,
   "maxScale": 0,
   "name": "Boundary",
   "defaultVisibility": true,
   "id": 7,
   "minScale": 0,
   "supportsDynamicLegends": true,
   "type": "Feature Layer",
   "parentLayerId": 0,
   "geometryType": "esriGeometryPolygon"
  },
  {
   "subLayerIds": [
    9
   ],
   "maxScale": 0,
   "name": "Rail",
   "defaultVisibility": true,
   "id": 8,
   "minScale": 0,
   "supportsDynamicLegends": false,
   "type": "Group Layer",
   "parentLayerId": -1
  },
  {
   "subLayerIds": null,
   "maxScale": 0,
   "name": "QLD_Rail",
   "defaultVisibility": true,
   "id": 9,
   "minScale": 100000,
   "supportsDynamicLegends": true,
   "type": "Feature Layer",
   "parentLayerId": 8,
   "geometryType": "esriGeometryPolyline"
  },
  {
   "subLayerIds": [
    11,
    12,
    13,
    14,
    15,
    16,
    17,
    18,
    19
   ],
   "maxScale": 0,
   "name": "Roads old",
   "defaultVisibility": true,
   "id": 10,
   "minScale": 0,
   "supportsDynamicLegends": false,
   "type": "Group Layer",
   "parentLayerId": -1
  },
  {
   "subLayerIds": null,
   "maxScale": 500000,
   "name": "Roads CL Overview",
   "defaultVisibility": true,
   "id": 11,
   "minScale": 0,
   "supportsDynamicLegends": true,
   "type": "Feature Layer",
   "parentLayerId": 10,
   "geometryType": "esriGeometryPolyline"
  },
  {
   "subLayerIds": null,
   "maxScale": 64000,
   "name": "Roads CL High",
   "defaultVisibility": true,
   "id": 12,
   "minScale": 256000,
   "supportsDynamicLegends": true,
   "type": "Feature Layer",
   "parentLayerId": 10,
   "geometryType": "esriGeometryPolyline"
  },
  {
   "subLayerIds": null,
   "maxScale": 16000,
   "name": "Road CL Middle",
   "defaultVisibility": true,
   "id": 13,
   "minScale": 32001,
   "supportsDynamicLegends": true,
   "type": "Feature Layer",
   "parentLayerId": 10,
   "geometryType": "esriGeometryPolyline"
  },
  {
   "subLayerIds": null,
   "maxScale": 8000,
   "name": "Road CL",
   "defaultVisibility": true,
   "id": 14,
   "minScale": 8000,
   "supportsDynamicLegends": true,
   "type": "Feature Layer",
   "parentLayerId": 10,
   "geometryType": "esriGeometryPolyline"
  },
  {
   "subLayerIds": null,
   "maxScale": 4000,
   "name": "Road CL Low",
   "defaultVisibility": true,
   "id": 15,
   "minScale": 4000,
   "supportsDynamicLegends": true,
   "type": "Feature Layer",
   "parentLayerId": 10,
   "geometryType": "esriGeometryPolyline"
  },
  {
   "subLayerIds": null,
   "maxScale": 6001,
   "name": "Roads CL Labels 10000",
   "defaultVisibility": true,
   "id": 16,
   "minScale": 28000,
   "supportsDynamicLegends": true,
   "type": "Feature Layer",
   "parentLayerId": 10,
   "geometryType": "esriGeometryPolyline"
  },
  {
   "subLayerIds": null,
   "maxScale": 3001,
   "name": "Roads CL Labels 5000",
   "defaultVisibility": true,
   "id": 17,
   "minScale": 6000,
   "supportsDynamicLegends": true,
   "type": "Feature Layer",
   "parentLayerId": 10,
   "geometryType": "esriGeometryPolyline"
  },
  {
   "subLayerIds": null,
   "maxScale": 1501,
   "name": "Roads CL Labels 2500",
   "defaultVisibility": true,
   "id": 18,
   "minScale": 3000,
   "supportsDynamicLegends": true,
   "type": "Feature Layer",
   "parentLayerId": 10,
   "geometryType": "esriGeometryPolyline"
  },
  {
   "subLayerIds": null,
   "maxScale": 0,
   "name": "Roads CL Labels 1000",
   "defaultVisibility": true,
   "id": 19,
   "minScale": 1500,
   "supportsDynamicLegends": true,
   "type": "Feature Layer",
   "parentLayerId": 10,
   "geometryType": "esriGeometryPolyline"
  },
  {
   "subLayerIds": null,
   "maxScale": 0,
   "name": "QLD_CADASTRE_DCDB_Clip",
   "defaultVisibility": true,
   "id": 20,
   "minScale": 4001,
   "supportsDynamicLegends": true,
   "type": "Feature Layer",
   "parentLayerId": -1,
   "geometryType": "esriGeometryPolygon"
  },
  {
   "subLayerIds": [
    22,
    23
   ],
   "maxScale": 0,
   "name": "Property",
   "defaultVisibility": true,
   "id": 21,
   "minScale": 50000,
   "supportsDynamicLegends": false,
   "type": "Group Layer",
   "parentLayerId": -1
  },
  {
   "subLayerIds": null,
   "maxScale": 0,
   "name": "Properties",
   "defaultVisibility": true,
   "id": 22,
   "minScale": 8000,
   "supportsDynamicLegends": true,
   "type": "Feature Layer",
   "parentLayerId": 21,
   "geometryType": "esriGeometryPolygon"
  },
  {
   "subLayerIds": null,
   "maxScale": 0,
   "name": "Properties 1",
   "defaultVisibility": true,
   "id": 23,
   "minScale": 4000,
   "supportsDynamicLegends": true,
   "type": "Feature Layer",
   "parentLayerId": 21,
   "geometryType": "esriGeometryPolygon"
  },
  {
   "subLayerIds": [
    25,
    26,
    27,
    28,
    29,
    30
   ],
   "maxScale": 0,
   "name": "Background",
   "defaultVisibility": true,
   "id": 24,
   "minScale": 0,
   "supportsDynamicLegends": false,
   "type": "Group Layer",
   "parentLayerId": -1
  },
  {
   "subLayerIds": null,
   "maxScale": 0,
   "name": "Road Parcel",
   "defaultVisibility": true,
   "id": 25,
   "minScale": 4000,
   "supportsDynamicLegends": true,
   "type": "Feature Layer",
   "parentLayerId": 24,
   "geometryType": "esriGeometryPolygon"
  },
  {
   "subLayerIds": null,
   "maxScale": 0,
   "name": "QLDRoads",
   "defaultVisibility": true,
   "id": 26,
   "minScale": 0,
   "supportsDynamicLegends": true,
   "type": "Feature Layer",
   "parentLayerId": 24,
   "geometryType": "esriGeometryPolyline"
  },
  {
   "subLayerIds": null,
   "maxScale": 0,
   "name": "LOCGOVBDY < 17500",
   "defaultVisibility": true,
   "id": 27,
   "minScale": 16001,
   "supportsDynamicLegends": true,
   "type": "Feature Layer",
   "parentLayerId": 24,
   "geometryType": "esriGeometryPolygon"
  },
  {
   "subLayerIds": null,
   "maxScale": 16001,
   "name": "LOCGOVBDY > 17500",
   "defaultVisibility": true,
   "id": 28,
   "minScale": 0,
   "supportsDynamicLegends": true,
   "type": "Feature Layer",
   "parentLayerId": 24,
   "geometryType": "esriGeometryPolygon"
  },
  {
   "subLayerIds": null,
   "maxScale": 0,
   "name": "NSW_Clip",
   "defaultVisibility": true,
   "id": 29,
   "minScale": 0,
   "supportsDynamicLegends": true,
   "type": "Feature Layer",
   "parentLayerId": 24,
   "geometryType": "esriGeometryPolygon"
  },
  {
   "subLayerIds": null,
   "maxScale": 0,
   "name": "ClipAreaForCache",
   "defaultVisibility": true,
   "id": 30,
   "minScale": 0,
   "supportsDynamicLegends": true,
   "type": "Feature Layer",
   "parentLayerId": 24,
   "geometryType": "esriGeometryPolygon"
  }
 ],
 "mapName": "Layers",
 "minScale": 1024000,
 "archivingInfo": {
  "supportsHistoricMoment": false
 },
 "spatialReference": {
  "falseM": -100000,
  "xyTolerance": 0.001,
  "mUnits": 10000,
  "zUnits": 10000,
  "latestWkid": 7856,
  "zTolerance": 0.001,
  "wkid": 7856,
  "xyUnits": 442418426.488923073,
  "mTolerance": 0.001,
  "falseX": -5415554.13785000052,
  "falseY": -360905.6730300003,
  "falseZ": -100000
 },
 "tileImageInfo": {
  "bandCount": 1,
  "lercError": 0,
  "format": "PNG",
  "compressionQuality": 0
 },
 "fullExtent": {
  "ymin": 6666403.8370000003,
  "zmin": -1.4590000000025611,
  "xmin": -134927.31240000017,
  "ymax": 7258013.4605999999,
  "zmax": 0,
  "xmax": 772182.75700000022,
  "spatialReference": {
   "falseM": -100000,
   "xyTolerance": 0.001,
   "mUnits": 10000,
   "zUnits": 10000,
   "latestWkid": 7856,
   "zTolerance": 0.001,
   "wkid": 7856,
   "xyUnits": 442418426.488923073,
   "mTolerance": 0.001,
   "falseX": -5415554.13785000052,
   "falseY": -360905.6730300003,
   "falseZ": -100000
  }
 },
 "supportedExtensions": "WMSServer",
 "serviceItemId": "47c2b3eb23ef4a86a4e786ffe28e573f",
 "capabilities": "Map",
 "supportsDynamicLayers": true,
 "maxScale": 250,
 "singleFusedMapCache": true,
 "currentVersion": 12.1,
 "storageInfo": {
  "storageFormat": "esriMapCacheStorageModeCompactV2",
  "packetSize": 128
 },
 "resampling": false,
 "hasBranchVersionedData": false,
 "mapUnits": {
  "uwkid": 9001
 },
 "referenceScale": 0,
 "supportsSpatialFilter": true,
 "supportedQueryFormats": "JSON, geoJSON, PBF",
 "datumTransformations": [
  {
   "geoTransforms": [
    {
     "latestWkid": 1241,
     "transformForward": true,
     "wkid": 108001,
     "name": "NAD_1927_To_NAD_1983_NADCON"
    }
   ]
  },
  {
   "geoTransforms": [
    {
     "latestWkid": 1241,
     "transformForward": false,
     "wkid": 108001,
     "name": "NAD_1927_To_NAD_1983_NADCON"
    }
   ]
  }
 ],
 "initialExtent": {
  "ymin": 6836962.4550370537,
  "xmin": 210514.24266131604,
  "ymax": 7063894.5937364623,
  "xmax": 495210.92575693736,
  "spatialReference": {
   "falseM": -100000,
   "xyTolerance": 0.001,
   "mUnits": 10000,
   "zUnits": 10000,
   "latestWkid": 7856,
   "zTolerance": 0.001,
   "wkid": 7856,
   "xyUnits": 442418426.488923073,
   "mTolerance": 0.001,
   "falseX": -5415554.13785000052,
   "falseY": -360905.6730300003,
   "falseZ": -100000
  }
 },
 "serviceDescription": "",
 "copyrightText": "",
 "supportsTimeRelation": true
}
