{
 "documentInfo": {
  "Category": "",
  "Keywords": "",
  "Version": "10.1",
  "Comments": "",
  "AntialiasingMode": "None",
  "Title": "BaseLayers_Terrain_Cache",
  "Author": "darrb",
  "TextAntialiasingMode": "Force",
  "Subject": ""
 },
 "maxImageWidth": 4096,
 "wmtsScaleFactor": 0.00028000000000003521,
 "maxRecordCount": 1000,
 "tileInfo": {
  "lods": [
   {
    "level": 0,
    "scale": 1024000,
    "resolution": 270.93387520108377
   },
   {
    "level": 1,
    "scale": 512000,
    "resolution": 135.46693760054188
   },
   {
    "level": 2,
    "scale": 256000,
    "resolution": 67.733468800270941
   },
   {
    "level": 3,
    "scale": 128000,
    "resolution": 33.866734400135471
   },
   {
    "level": 4,
    "scale": 64000,
    "resolution": 16.933367200067735
   },
   {
    "level": 5,
    "scale": 32000,
    "resolution": 8.4666836000338677
   },
   {
    "level": 6,
    "scale": 16000,
    "resolution": 4.2333418000169338
   },
   {
    "level": 7,
    "scale": 8000,
    "resolution": 2.1166709000084669
   },
   {
    "level": 8,
    "scale": 4000,
    "resolution": 1.0583354500042335
   },
   {
    "level": 9,
    "scale": 2000,
    "resolution": 0.52916772500211673
   },
   {
    "level": 10,
    "scale": 1000,
    "resolution": 0.26458386250105836
   },
   {
    "level": 11,
    "scale": 500,
    "resolution": 0.13229193125052918
   },
   {
    "level": 12,
    "scale": 250,
    "resolution": 0.066145965625264591
   }
  ],
  "origin": {
   "x": -5120900,
   "y": 19998100
  },
  "format": "MIXED",
  "compressionQuality": 75,
  "rows": 256,
  "dpi": 96,
  "spatialReference": {
   "falseM": -100000,
   "xyTolerance": 0.001,
   "mUnits": 10000,
   "zUnits": 1,
   "latestWkid": 7856,
   "zTolerance": 2,
   "wkid": 7856,
   "xyUnits": 450445547.3910538,
   "mTolerance": 0.001,
   "falseX": -5120900,
   "falseY": 1900,
   "falseZ": 0
  },
  "cols": 256
 },
 "description": "",
 "datesInUnknownTimezone": false,
 "supportsQueryDomains": true,
 "units": "esriMeters",
 "maxSelectionCount": 2000,
 "supportedImageFormatTypes": "PNG32,PNG24,PNG,JPG,DIB,TIFF,EMF,PS,PDF,GIF,SVG,SVGZ,BMP",
 "supportsClipping": true,
 "exportTilesAllowed": true,
 "maxImageHeight": 4096,
 "tables": [],
 "hasVersionedData": true,
 "supportsDatumTransformation": true,
 "cimVersion": "3.7.0",
 "supportsQueryDataElements": true,
 "layers": [
  {
   "subLayerIds": [
    1,
    3,
    6,
    9,
    12
   ],
   "maxScale": 0,
   "name": "Contours",
   "defaultVisibility": false,
   "id": 0,
   "minScale": 0,
   "supportsDynamicLegends": false,
   "type": "Group Layer",
   "parentLayerId": -1
  },
  {
   "subLayerIds": [
    2
   ],
   "maxScale": 0,
   "name": "2500",
   "defaultVisibility": true,
   "id": 1,
   "minScale": 1000,
   "supportsDynamicLegends": false,
   "type": "Group Layer",
   "parentLayerId": 0
  },
  {
   "subLayerIds": null,
   "maxScale": 0,
   "name": "1m_2010",
   "defaultVisibility": true,
   "id": 2,
   "minScale": 0,
   "supportsDynamicLegends": true,
   "type": "Feature Layer",
   "parentLayerId": 1,
   "geometryType": "esriGeometryPolyline"
  },
  {
   "subLayerIds": [
    4,
    5
   ],
   "maxScale": 0,
   "name": "5000 10000",
   "defaultVisibility": true,
   "id": 3,
   "minScale": 16000,
   "supportsDynamicLegends": false,
   "type": "Group Layer",
   "parentLayerId": 0
  },
  {
   "subLayerIds": null,
   "maxScale": 0,
   "name": "NRW_ALL_25m_25k_3",
   "defaultVisibility": true,
   "id": 4,
   "minScale": 0,
   "supportsDynamicLegends": true,
   "type": "Feature Layer",
   "parentLayerId": 3,
   "geometryType": "esriGeometryPolyline"
  },
  {
   "subLayerIds": null,
   "maxScale": 0,
   "name": "NRW_ALL_5m_25k_4",
   "defaultVisibility": true,
   "id": 5,
   "minScale": 0,
   "supportsDynamicLegends": true,
   "type": "Feature Layer",
   "parentLayerId": 3,
   "geometryType": "esriGeometryPolyline"
  },
  {
   "subLayerIds": [
    7,
    8
   ],
   "maxScale": 32000,
   "name": "25m",
   "defaultVisibility": true,
   "id": 6,
   "minScale": 32000,
   "supportsDynamicLegends": false,
   "type": "Group Layer",
   "parentLayerId": 0
  },
  {
   "subLayerIds": null,
   "maxScale": 16000,
   "name": "NRW_ALL_100m_25k_",
   "defaultVisibility": true,
   "id": 7,
   "minScale": 32000,
   "supportsDynamicLegends": true,
   "type": "Feature Layer",
   "parentLayerId": 6,
   "geometryType": "esriGeometryPolyline"
  },
  {
   "subLayerIds": null,
   "maxScale": 16000,
   "name": "NRW_ALL_25m_25k_3",
   "defaultVisibility": true,
   "id": 8,
   "minScale": 32000,
   "supportsDynamicLegends": true,
   "type": "Feature Layer",
   "parentLayerId": 6,
   "geometryType": "esriGeometryPolyline"
  },
  {
   "subLayerIds": [
    10,
    11
   ],
   "maxScale": 64000,
   "name": "75000",
   "defaultVisibility": true,
   "id": 9,
   "minScale": 128000,
   "supportsDynamicLegends": false,
   "type": "Group Layer",
   "parentLayerId": 0
  },
  {
   "subLayerIds": null,
   "maxScale": 0,
   "name": "NRW_ALL_100m_25k_",
   "defaultVisibility": true,
   "id": 10,
   "minScale": 0,
   "supportsDynamicLegends": true,
   "type": "Feature Layer",
   "parentLayerId": 9,
   "geometryType": "esriGeometryPolyline"
  },
  {
   "subLayerIds": null,
   "maxScale": 32000,
   "name": "NRW_ALL_50m_25k_3",
   "defaultVisibility": true,
   "id": 11,
   "minScale": 128000,
   "supportsDynamicLegends": true,
   "type": "Feature Layer",
   "parentLayerId": 9,
   "geometryType": "esriGeometryPolyline"
  },
  {
   "subLayerIds": null,
   "maxScale": 256000,
   "name": "NRW_ALL_100m_25k_2",
   "defaultVisibility": true,
   "id": 12,
   "minScale": 256000,
   "supportsDynamicLegends": true,
   "type": "Feature Layer",
   "parentLayerId": 0,
   "geometryType": "esriGeometryPolyline"
  },
  {
   "subLayerIds": [
    14,
    15,
    22,
    25,
    26
   ],
   "maxScale": 0,
   "name": "overlays",
   "defaultVisibility": true,
   "id": 13,
   "minScale": 0,
   "supportsDynamicLegends": false,
   "type": "Group Layer",
   "parentLayerId": -1
  },
  {
   "subLayerIds": null,
   "maxScale": 2000,
   "name": "Properties",
   "defaultVisibility": true,
   "id": 14,
   "minScale": 15500,
   "supportsDynamicLegends": true,
   "type": "Feature Layer",
   "parentLayerId": 13,
   "geometryType": "esriGeometryPolygon"
  },
  {
   "subLayerIds": [
    16,
    17,
    18,
    19,
    20,
    21
   ],
   "maxScale": 0,
   "name": "Localities",
   "defaultVisibility": true,
   "id": 15,
   "minScale": 0,
   "supportsDynamicLegends": false,
   "type": "Group Layer",
   "parentLayerId": 13
  },
  {
   "subLayerIds": null,
   "maxScale": 0,
   "name": "sde.ENG.DamWaterline",
   "defaultVisibility": true,
   "id": 16,
   "minScale": 0,
   "supportsDynamicLegends": true,
   "type": "Feature Layer",
   "parentLayerId": 15,
   "geometryType": "esriGeometryPolygon"
  },
  {
   "subLayerIds": null,
   "maxScale": 0,
   "name": "Qld_Drainage_TRC_Clip <150000",
   "defaultVisibility": true,
   "id": 17,
   "minScale": 128000,
   "supportsDynamicLegends": true,
   "type": "Feature Layer",
   "parentLayerId": 15,
   "geometryType": "esriGeometryPolyline"
  },
  {
   "subLayerIds": null,
   "maxScale": 64000,
   "name": "Qld_Drainage_TRC_Clip > 150000",
   "defaultVisibility": true,
   "id": 18,
   "minScale": 0,
   "supportsDynamicLegends": true,
   "type": "Feature Layer",
   "parentLayerId": 15,
   "geometryType": "esriGeometryPolyline"
  },
  {
   "subLayerIds": null,
   "maxScale": 256000,
   "name": "Service Centres",
   "defaultVisibility": true,
   "id": 19,
   "minScale": 0,
   "supportsDynamicLegends": true,
   "type": "Feature Layer",
   "parentLayerId": 15,
   "geometryType": "esriGeometryPoint"
  },
  {
   "subLayerIds": null,
   "maxScale": 16000,
   "name": "Towns2",
   "defaultVisibility": true,
   "id": 20,
   "minScale": 128000,
   "supportsDynamicLegends": true,
   "type": "Feature Layer",
   "parentLayerId": 15,
   "geometryType": "esriGeometryPoint"
  },
  {
   "subLayerIds": null,
   "maxScale": 0,
   "name": "Boundary",
   "defaultVisibility": true,
   "id": 21,
   "minScale": 0,
   "supportsDynamicLegends": true,
   "type": "Feature Layer",
   "parentLayerId": 15,
   "geometryType": "esriGeometryPolygon"
  },
  {
   "subLayerIds": [
    23,
    24
   ],
   "maxScale": 0,
   "name": "Rail",
   "defaultVisibility": true,
   "id": 22,
   "minScale": 0,
   "supportsDynamicLegends": false,
   "type": "Group Layer",
   "parentLayerId": 13
  },
  {
   "subLayerIds": null,
   "maxScale": 100000,
   "name": "QLD_Rail Overview",
   "defaultVisibility": true,
   "id": 23,
   "minScale": 0,
   "supportsDynamicLegends": true,
   "type": "Feature Layer",
   "parentLayerId": 22,
   "geometryType": "esriGeometryPolyline"
  },
  {
   "subLayerIds": null,
   "maxScale": 0,
   "name": "QLD_Rail",
   "defaultVisibility": true,
   "id": 24,
   "minScale": 100000,
   "supportsDynamicLegends": true,
   "type": "Feature Layer",
   "parentLayerId": 22,
   "geometryType": "esriGeometryPolyline"
  },
  {
   "subLayerIds": [],
   "maxScale": 0,
   "name": "Roads",
   "defaultVisibility": true,
   "id": 25,
   "minScale": 0,
   "supportsDynamicLegends": false,
   "type": "Group Layer",
   "parentLayerId": 13
  },
  {
   "subLayerIds": [
    27,
    28,
    29,
    30,
    31
   ],
   "maxScale": 0,
   "name": "Background",
   "defaultVisibility": true,
   "id": 26,
   "minScale": 0,
   "supportsDynamicLegends": false,
   "type": "Group Layer",
   "parentLayerId": 13
  },
  {
   "subLayerIds": null,
   "maxScale": 0,
   "name": "Road Parcel",
   "defaultVisibility": true,
   "id": 27,
   "minScale": 4000,
   "supportsDynamicLegends": true,
   "type": "Feature Layer",
   "parentLayerId": 26,
   "geometryType": "esriGeometryPolygon"
  },
  {
   "subLayerIds": null,
   "maxScale": 0,
   "name": "QLDRoads",
   "defaultVisibility": true,
   "id": 28,
   "minScale": 0,
   "supportsDynamicLegends": true,
   "type": "Feature Layer",
   "parentLayerId": 26,
   "geometryType": "esriGeometryPolyline"
  },
  {
   "subLayerIds": null,
   "maxScale": 0,
   "name": "TRC_Boundary",
   "defaultVisibility": true,
   "id": 29,
   "minScale": 0,
   "supportsDynamicLegends": true,
   "type": "Feature Layer",
   "parentLayerId": 26,
   "geometryType": "esriGeometryPolygon"
  },
  {
   "subLayerIds": null,
   "maxScale": 0,
   "name": "LOCGOVBDy_edit_Cressbrook_",
   "defaultVisibility": false,
   "id": 30,
   "minScale": 0,
   "supportsDynamicLegends": true,
   "type": "Feature Layer",
   "parentLayerId": 26,
   "geometryType": "esriGeometryPolygon"
  },
  {
   "subLayerIds": null,
   "maxScale": 0,
   "name": "LOCGOVBDY",
   "defaultVisibility": true,
   "id": 31,
   "minScale": 0,
   "supportsDynamicLegends": true,
   "type": "Feature Layer",
   "parentLayerId": 26,
   "geometryType": "esriGeometryPolygon"
  },
  {
   "subLayerIds": [
    33,
    34,
    35,
    36,
    37,
    38,
    39,
    41,
    45,
    46,
    47
   ],
   "maxScale": 0,
   "name": "10000",
   "defaultVisibility": true,
   "id": 32,
   "minScale": 0,
   "supportsDynamicLegends": false,
   "type": "Group Layer",
   "parentLayerId": -1
  },
  {
   "subLayerIds": null,
   "maxScale": 0,
   "name": "Cooby_Dam_DEM_2m_Nov2020.tif",
   "defaultVisibility": true,
   "id": 33,
   "minScale": 0,
   "supportsDynamicLegends": true,
   "type": "Raster Layer",
   "parentLayerId": 32
  },
  {
   "subLayerIds": null,
   "maxScale": 0,
   "name": "Cressbrook_Dam_DEM_2m_Nov2020.tif",
   "defaultVisibility": true,
   "id": 34,
   "minScale": 0,
   "supportsDynamicLegends": true,
   "type": "Raster Layer",
   "parentLayerId": 32
  },
  {
   "subLayerIds": null,
   "maxScale": 0,
   "name": "Perseverance_Dam_DEM_2m_Nov2020.tif",
   "defaultVisibility": true,
   "id": 35,
   "minScale": 0,
   "supportsDynamicLegends": true,
   "type": "Raster Layer",
   "parentLayerId": 32
  },
  {
   "subLayerIds": null,
   "maxScale": 0,
   "name": "dem_202005_1m",
   "defaultVisibility": true,
   "id": 36,
   "minScale": 0,
   "supportsDynamicLegends": true,
   "type": "Raster Layer",
   "parentLayerId": 32
  },
  {
   "subLayerIds": null,
   "maxScale": 0,
   "name": "TRC_Boundary",
   "defaultVisibility": true,
   "id": 37,
   "minScale": 0,
   "supportsDynamicLegends": true,
   "type": "Feature Layer",
   "parentLayerId": 32,
   "geometryType": "esriGeometryPolygon"
  },
  {
   "subLayerIds": null,
   "maxScale": 0,
   "name": "dem2010_hs",
   "defaultVisibility": true,
   "id": 38,
   "minScale": 0,
   "supportsDynamicLegends": true,
   "type": "Raster Layer",
   "parentLayerId": 32
  },
  {
   "subLayerIds": [
    40
   ],
   "maxScale": 0,
   "name": "2011",
   "defaultVisibility": true,
   "id": 39,
   "minScale": 0,
   "supportsDynamicLegends": false,
   "type": "Group Layer",
   "parentLayerId": 32
  },
  {
   "subLayerIds": null,
   "maxScale": 0,
   "name": "hs_yarraman",
   "defaultVisibility": true,
   "id": 40,
   "minScale": 0,
   "supportsDynamicLegends": true,
   "type": "Raster Layer",
   "parentLayerId": 39
  },
  {
   "subLayerIds": [
    42,
    43,
    44
   ],
   "maxScale": 0,
   "name": "2013",
   "defaultVisibility": true,
   "id": 41,
   "minScale": 0,
   "supportsDynamicLegends": false,
   "type": "Group Layer",
   "parentLayerId": 32
  },
  {
   "subLayerIds": null,
   "maxScale": 0,
   "name": "hs_mttyson",
   "defaultVisibility": true,
   "id": 42,
   "minScale": 0,
   "supportsDynamicLegends": true,
   "type": "Raster Layer",
   "parentLayerId": 41
  },
  {
   "subLayerIds": null,
   "maxScale": 0,
   "name": "hs_kulpi",
   "defaultVisibility": true,
   "id": 43,
   "minScale": 0,
   "supportsDynamicLegends": true,
   "type": "Raster Layer",
   "parentLayerId": 41
  },
  {
   "subLayerIds": null,
   "maxScale": 0,
   "name": "hs_bowenville",
   "defaultVisibility": true,
   "id": 44,
   "minScale": 0,
   "supportsDynamicLegends": true,
   "type": "Raster Layer",
   "parentLayerId": 41
  },
  {
   "subLayerIds": null,
   "maxScale": 0,
   "name": "2mdem2010nth",
   "defaultVisibility": true,
   "id": 45,
   "minScale": 0,
   "supportsDynamicLegends": true,
   "type": "Raster Layer",
   "parentLayerId": 32
  },
  {
   "subLayerIds": null,
   "maxScale": 0,
   "name": "2mdem2010sth",
   "defaultVisibility": true,
   "id": 46,
   "minScale": 0,
   "supportsDynamicLegends": true,
   "type": "Raster Layer",
   "parentLayerId": 32
  },
  {
   "subLayerIds": null,
   "maxScale": 0,
   "name": "Aerial_HS1.tif",
   "defaultVisibility": true,
   "id": 47,
   "minScale": 0,
   "supportsDynamicLegends": true,
   "type": "Raster Layer",
   "parentLayerId": 32
  },
  {
   "subLayerIds": [
    49,
    50,
    51,
    52,
    53
   ],
   "maxScale": 0,
   "name": "Background 2",
   "defaultVisibility": true,
   "id": 48,
   "minScale": 0,
   "supportsDynamicLegends": false,
   "type": "Group Layer",
   "parentLayerId": -1
  },
  {
   "subLayerIds": null,
   "maxScale": 128000,
   "name": "esri_dem_Blur_Clip.tif",
   "defaultVisibility": true,
   "id": 49,
   "minScale": 0,
   "supportsDynamicLegends": true,
   "type": "Raster Layer",
   "parentLayerId": 48
  },
  {
   "subLayerIds": null,
   "maxScale": 0,
   "name": "TRC_Boundary2",
   "defaultVisibility": true,
   "id": 50,
   "minScale": 0,
   "supportsDynamicLegends": true,
   "type": "Feature Layer",
   "parentLayerId": 48,
   "geometryType": "esriGeometryPolygon"
  },
  {
   "subLayerIds": null,
   "maxScale": 0,
   "name": "LOCGOVBDY",
   "defaultVisibility": true,
   "id": 51,
   "minScale": 0,
   "supportsDynamicLegends": true,
   "type": "Feature Layer",
   "parentLayerId": 48,
   "geometryType": "esriGeometryPolygon"
  },
  {
   "subLayerIds": null,
   "maxScale": 0,
   "name": "NSW_Clip",
   "defaultVisibility": true,
   "id": 52,
   "minScale": 0,
   "supportsDynamicLegends": true,
   "type": "Feature Layer",
   "parentLayerId": 48,
   "geometryType": "esriGeometryPolygon"
  },
  {
   "subLayerIds": null,
   "maxScale": 0,
   "name": "ClipAreaForCache",
   "defaultVisibility": true,
   "id": 53,
   "minScale": 0,
   "supportsDynamicLegends": true,
   "type": "Feature Layer",
   "parentLayerId": 48,
   "geometryType": "esriGeometryPolygon"
  }
 ],
 "mapName": "Layers",
 "minScale": 1024000,
 "archivingInfo": {
  "supportsHistoricMoment": false
 },
 "spatialReference": {
  "falseM": -100000,
  "xyTolerance": 0.001,
  "mUnits": 10000,
  "zUnits": 10000,
  "latestWkid": 7856,
  "zTolerance": 0.001,
  "wkid": 7856,
  "xyUnits": 450445547.3910538,
  "mTolerance": 0.001,
  "falseX": -5120900,
  "falseY": 1900,
  "falseZ": -100000
 },
 "tileImageInfo": {
  "bandCount": 1,
  "lercError": 0,
  "format": "MIXED",
  "compressionQuality": 75
 },
 "fullExtent": {
  "ymin": 6666403.8370000003,
  "zmin": -1.4590000000025611,
  "xmin": -134927.31240000017,
  "ymax": 7258013.4605999999,
  "zmax": 0,
  "xmax": 772182.75700000022,
  "spatialReference": {
   "falseM": -100000,
   "xyTolerance": 0.001,
   "mUnits": 10000,
   "zUnits": 10000,
   "latestWkid": 7856,
   "zTolerance": 0.001,
   "wkid": 7856,
   "xyUnits": 450445547.3910538,
   "mTolerance": 0.001,
   "falseX": -5120900,
   "falseY": 1900,
   "falseZ": -100000
  }
 },
 "supportedExtensions": "WMSServer",
 "serviceItemId": "d3b4680507ba4ca2a3a6879d65ab10e8",
 "capabilities": "Map,Query,Data",
 "supportsDynamicLayers": true,
 "maxScale": 250,
 "singleFusedMapCache": true,
 "currentVersion": 12.1,
 "storageInfo": {
  "storageFormat": "esriMapCacheStorageModeCompactV2",
  "packetSize": 128
 },
 "resampling": false,
 "hasBranchVersionedData": false,
 "mapUnits": {
  "uwkid": 9001
 },
 "maxExportTilesCount": 10000,
 "referenceScale": 0,
 "supportsSpatialFilter": true,
 "supportedQueryFormats": "JSON, geoJSON, PBF",
 "datumTransformations": [
  {
   "geoTransforms": [
    {
     "latestWkid": 1241,
     "transformForward": true,
     "wkid": 108001,
     "name": "NAD_1927_To_NAD_1983_NADCON"
    }
   ]
  },
  {
   "geoTransforms": [
    {
     "latestWkid": 1241,
     "transformForward": false,
     "wkid": 108001,
     "name": "NAD_1927_To_NAD_1983_NADCON"
    }
   ]
  }
 ],
 "initialExtent": {
  "ymin": 6968885.9499887554,
  "xmin": 385286.57552828582,
  "ymax": 6974778.7617743788,
  "xmax": 403591.54547155905,
  "spatialReference": {
   "falseM": -100000,
   "xyTolerance": 0.001,
   "mUnits": 10000,
   "zUnits": 10000,
   "latestWkid": 7856,
   "zTolerance": 0.001,
   "wkid": 7856,
   "xyUnits": 450445547.3910538,
   "mTolerance": 0.001,
   "falseX": -5120900,
   "falseY": 1900,
   "falseZ": -100000
  }
 },
 "serviceDescription": "",
 "copyrightText": "",
 "supportsTimeRelation": true
}
